BEGIN:VCALENDAR
VERSION:2.0
PRODID:-//DIE OFFHEIMER JAZZBÄREN - ECPv6.15.20//NONSGML v1.0//EN
CALSCALE:GREGORIAN
METHOD:PUBLISH
X-WR-CALNAME:DIE OFFHEIMER JAZZBÄREN
X-ORIGINAL-URL:https://www.jazzbaeren.de
X-WR-CALDESC:Veranstaltungen für DIE OFFHEIMER JAZZBÄREN
REFRESH-INTERVAL;VALUE=DURATION:PT1H
X-Robots-Tag:noindex
X-PUBLISHED-TTL:PT1H
BEGIN:VTIMEZONE
TZID:Europe/Berlin
BEGIN:DAYLIGHT
TZOFFSETFROM:+0100
TZOFFSETTO:+0200
TZNAME:CEST
DTSTART:20230326T010000
END:DAYLIGHT
BEGIN:STANDARD
TZOFFSETFROM:+0200
TZOFFSETTO:+0100
TZNAME:CET
DTSTART:20231029T010000
END:STANDARD
BEGIN:DAYLIGHT
TZOFFSETFROM:+0100
TZOFFSETTO:+0200
TZNAME:CEST
DTSTART:20240331T010000
END:DAYLIGHT
BEGIN:STANDARD
TZOFFSETFROM:+0200
TZOFFSETTO:+0100
TZNAME:CET
DTSTART:20241027T010000
END:STANDARD
BEGIN:DAYLIGHT
TZOFFSETFROM:+0100
TZOFFSETTO:+0200
TZNAME:CEST
DTSTART:20250330T010000
END:DAYLIGHT
BEGIN:STANDARD
TZOFFSETFROM:+0200
TZOFFSETTO:+0100
TZNAME:CET
DTSTART:20251026T010000
END:STANDARD
BEGIN:DAYLIGHT
TZOFFSETFROM:+0100
TZOFFSETTO:+0200
TZNAME:CEST
DTSTART:20260329T010000
END:DAYLIGHT
BEGIN:STANDARD
TZOFFSETFROM:+0200
TZOFFSETTO:+0100
TZNAME:CET
DTSTART:20261025T010000
END:STANDARD
BEGIN:DAYLIGHT
TZOFFSETFROM:+0100
TZOFFSETTO:+0200
TZNAME:CEST
DTSTART:20270328T010000
END:DAYLIGHT
BEGIN:STANDARD
TZOFFSETFROM:+0200
TZOFFSETTO:+0100
TZNAME:CET
DTSTART:20271031T010000
END:STANDARD
END:VTIMEZONE
BEGIN:VEVENT
DTSTART;TZID=Europe/Berlin:20260414T080000
DTEND;TZID=Europe/Berlin:20260421T170000
DTSTAMP:20260423T124051
CREATED:20241030T182759Z
LAST-MODIFIED:20251219T182801Z
UID:4765-1776153600-1776790800@www.jazzbaeren.de
SUMMARY:Reise zum French Quarter Festival nach New Orleans
DESCRIPTION:www.frenchquarterfest.org
URL:https://www.jazzbaeren.de/event/reise-zum-french-quarter-festival-in-new-orleans/
LOCATION:New Orleans
CATEGORIES:Jazzbären - Öffentliche Veranstaltung
END:VEVENT
BEGIN:VEVENT
DTSTART;TZID=Europe/Berlin:20260411T190000
DTEND;TZID=Europe/Berlin:20260411T213000
DTSTAMP:20260423T124051
CREATED:20250926T145955Z
LAST-MODIFIED:20251219T175934Z
UID:5655-1775934000-1775943000@www.jazzbaeren.de
SUMMARY:Doktor Jazz Ambulanz
DESCRIPTION:
URL:https://www.jazzbaeren.de/event/doktor-jazz-ambulanz-2/
LOCATION:Gaststätte „Zur Turnhalle Offheim“\, Backhausstr. 9\, Offheim
CATEGORIES:JazzfreundeOffheim - Event
END:VEVENT
BEGIN:VEVENT
DTSTART;TZID=Europe/Berlin:20260321T190000
DTEND;TZID=Europe/Berlin:20260321T213000
DTSTAMP:20260423T124051
CREATED:20250912T092502Z
LAST-MODIFIED:20260308T192714Z
UID:5644-1774119600-1774128600@www.jazzbaeren.de
SUMMARY:Sunshine Brass
DESCRIPTION:Bereits seit 2001 zieht SUNSHINE BRASS als humorvolle Dixieland Kapelle durch die Lande. Mittlerweile genießen sie Kultstatus. In diesem Jahr feiert somit SUNSHINE BRASS ihr 25jähriges Jubiläum.\nBewaffnet mit Trompete\, Klarinette\, Saxophon\, Posaune\, Banjo\, Sousaphon\, Schlagzeug und einem Megaphon präsentieren die Herren des Orchesters handgemachte Musik\, die an Originalität und Vielfalt ihresgleichen sucht.\nAuf charmante Art unterhalten sie ihr Publikum: Frech\, pfiffig und herzlich zugleich laden sie die ZuhörerInnen zum Klatschen\, Mitsingen\, Tanzen und Feiern ein; unter anderem auch beim Internationalen Dixieland Festival in Dresden\, wo SUNSHINE BRASS seit 2006 regelmäßig gastiert.\nOb auf der Bühne\, mit Technik\, mitten im Publikum auf Tischen und Bänken oder auf edlen Festen ganz dezent im Hintergrund: Die Spontaneität der sechs Vollblutmusikanten und ihre Nähe zum Publikum weckt Begeisterung.\nDie Musiker der Band: Thomas Henkel (Schlagzeug\, Gesang)\, Thomas „Peppi“ Gütter (Klarinette\, Sopran- Alt- und Tenorsaxophon\, Blockflöte\, Gesang)\, Christian Hanft (Sousaphon\, Tuba\, Bassgitarre\, Kontrabass\, Gesang)\, Josef Gütter (Posaune\, Percussion\, Gesang)\, Michael „Matzi“ Siegfried (Banjo\, Gesang)\, Sven Viertel (Trompete\, Flügelhorn\, Gesang) \nSUNSHINE BRASS trat bereits im Jahre 2023 bei unserem Jazzfest in unserem Garten in Offheim auf und begeisterte die Zuhörer. Wir freuen uns auf das erneute Konzert bei uns\, diesmal in unserem Stammlokal „Zur Turnhalle Offheim“ und sagen einen herzlichen Glückwunsch zum 25jährigen Jubiläum der SUNSHINE BRASS. \nWeitere Informationen sind zu ersehen auf www.sunshinebrass.de
URL:https://www.jazzbaeren.de/event/sunshine-brass/
LOCATION:Gaststätte „Zur Turnhalle Offheim“\, Backhausstr. 9\, Offheim
CATEGORIES:JazzfreundeOffheim - Event
END:VEVENT
BEGIN:VEVENT
DTSTART;TZID=Europe/Berlin:20260217T190000
DTEND;TZID=Europe/Berlin:20260217T213000
DTSTAMP:20260423T124051
CREATED:20251006T141142Z
LAST-MODIFIED:20260203T153009Z
UID:5692-1771354800-1771363800@www.jazzbaeren.de
SUMMARY:Fastnachtdienstag - Mardi Gras + Fassenacht mit Stan Glogow's Dixie Dogs
DESCRIPTION:Als der Student der Slawistik und Germanistik Stan Glogow\, an einem Abend im berühmten Park-Café in Wiesbaden\, dem Mekka aller europäischen Top-Bands\, mit seiner 7-Mann-Band auftrat\, bahnte sich eine interessante Karriere des polnischen Ausnahmetrompeters und Sängers an. Durch die Vielseitigkeit seiner „Stan Glogow Band“ entwickelte sich diese zu einer Top Formation\, die in exklusiven Night-Clubs und Luxushotels und auf Gala-Veranstaltungen\, Bällen und Events in allen deutschen Großstädten mit bekannten Kollegen wie James Last\, Hugo Strasser\, Roberto Blanco\, Hazy Osterwald\, Günter Noris & der Bundeswehr Big Band\, Peter Petrel\, Peter Herbolzheimer und vielen anderen Zeitgenossen im Fernsehen auftraten. Für Stan Glogow waren diese Aktivitäten jedoch noch nicht genug. Es gab für ihn noch eine andere Leidenschaft\, den Jazz. Mit den „Stan Glogow’s Dixie Dogs“ wurde er auch im Bereich des Dixieland aktiv und tritt nun erneut wieder bei den Jazzfreunden in Offheim auf. \nMit dabei sind folgende hochkarätige Musiker: \nFlorian Hofmann\, Banjo\, studierte Jazz-Gitarre an der Hochschule für Musik in Würzburg. Konzerte und Tourneen führten ihn nach Russland\, Brasilien\, Holland\, Frankreich\, USA und Südafrika. Neben seinem Hauptinstrument Gitarre spielt er auch Banjo\, Mandoline und Ukulele. Seit 2024 leitet er die Musikschule Badische Bergstraße. \nCharly Zerfass\, Sousaphone\, war ursprünglich Trompeter beim Polizeiorchester in Wuppertal. Nach dieser Tätigkeit spielte Charly bei den „All that Jazz“ und nun in vielen verschiedenen Dixieland Bands. \nNicole Becker\, Posaune\, Gesang und Pfeifen á ´la Ilse Werner\, stammt aus einer musikalischen Familie. Mit ihrer Zwillingsschwester startete sie mit der Posaune im ev. Posaunenchor\, es folgten Blasorchester\, Bigbands und Jazz- und Soulbands. Derzeit ist sie erfolgreich aktiv mit ihrer eigenen Band „Brassette“ und den „Swinging Angels“. \nSven Hack\, Klarinette\, Saxophone\, Jazzstudium an der Frankfurter Musikwerkstatt\, Aktivitäten beim „Johann Strauß Orchester Wiesbaden\, Dozent am Peter-Cornelius-Konservatorium Mainz\, Klarinettist bei der Barrelhouse Jazzband und aktiv bei vielen anderen Bands und Formationen.
URL:https://www.jazzbaeren.de/event/fastnachtdienstag-band-noch-unklar/
LOCATION:Gaststätte „Zur Turnhalle Offheim“\, Backhausstr. 9\, Offheim
CATEGORIES:JazzfreundeOffheim - Event
END:VEVENT
BEGIN:VEVENT
DTSTART;TZID=Europe/Berlin:20260124T190000
DTEND;TZID=Europe/Berlin:20260124T213000
DTSTAMP:20260423T124051
CREATED:20250509T165857Z
LAST-MODIFIED:20260106T085504Z
UID:5094-1769281200-1769290200@www.jazzbaeren.de
SUMMARY:Die Zündkerzen
DESCRIPTION:Die „Zündkerzen“ stammen ursprünglich aus Koblenz und setzen sich aus engagierten Musikern aus Rheinland-Pfalz zusammen. Sie trafen sich im Heeresmusikkorps in Koblenz und gründeten dort die „Zündkerzen“. Der Kornettspieler Mathias Quint kommt aus dem Hunsrück\, der Sousaphonist Alexander Felz und der Schlagzeuger Tom Wünschel sind überzeugte Pfälzer Buben. Der Mann an der Posaune Sven Haas kommt aus dem Rheinland und der Saxophonist Christopher Buchheim ist gebürtig aus dem Pott und nun schon lange in Koblenz beheimatet. Alle Musiker sind derzeit auch in anderen\, unterschiedlichen Besetzungen tätig. Alex Felz am Sousaphon studierte Musik in Mainz\, alle anderen in Düsseldorf. \nDas Genre der „Zündkerzen“ lässt sich nicht so leicht deuten\, da es New Orleans Jazz\, All American Standards\, Schlager und Rocktitel irgendwie vermischt. Letztlich einigte sich die Band auf den Namen „Dixiegugge“. \n 
URL:https://www.jazzbaeren.de/event/die-zuendkerzen/
LOCATION:Gaststätte „Zur Turnhalle Offheim“\, Backhausstr. 9\, Offheim
CATEGORIES:JazzfreundeOffheim - Event
END:VEVENT
BEGIN:VEVENT
DTSTART;TZID=Europe/Berlin:20251220T190000
DTEND;TZID=Europe/Berlin:20251220T213000
DTSTAMP:20260423T124051
CREATED:20250902T190629Z
LAST-MODIFIED:20251220T095507Z
UID:5629-1766257200-1766266200@www.jazzbaeren.de
SUMMARY:Swingin Christmas "Basin Street Band"
DESCRIPTION:Musiker: Darek Kolodynski\, Banjo + Akkordeon – Jesko Kolodynski\, Trompete – Jürgen Letter\, Klarinette – Dirk Reccius\, Posaune – Götz Ommert\, Bass
URL:https://www.jazzbaeren.de/event/swingin-christmas-basin-street-band/
LOCATION:Gaststätte „Zur Turnhalle Offheim“\, Backhausstr. 9\, Offheim
CATEGORIES:JazzfreundeOffheim - Event
END:VEVENT
BEGIN:VEVENT
DTSTART;TZID=Europe/Berlin:20251122T190000
DTEND;TZID=Europe/Berlin:20251122T213000
DTSTAMP:20260423T124051
CREATED:20250806T162649Z
LAST-MODIFIED:20251113T152511Z
UID:5598-1763838000-1763847000@www.jazzbaeren.de
SUMMARY:Hot Dixie Four
DESCRIPTION:Musiker: Oliver Zimmer\, Trompete – Peter Glessing\, Klarinette – Kristian Zeyer\, Banjo – Götz Ommert\, Bass
URL:https://www.jazzbaeren.de/event/hot-dixie-four-2/
LOCATION:Gaststätte „Zur Turnhalle Offheim“\, Backhausstr. 9\, Offheim
CATEGORIES:JazzfreundeOffheim - Event
END:VEVENT
BEGIN:VEVENT
DTSTART;TZID=Europe/Berlin:20251107T200000
DTEND;TZID=Europe/Berlin:20251107T230000
DTSTAMP:20260423T124051
CREATED:20250926T150442Z
LAST-MODIFIED:20251009T160633Z
UID:5667-1762545600-1762556400@www.jazzbaeren.de
SUMMARY:Private Geburtstagsfeier
DESCRIPTION:
URL:https://www.jazzbaeren.de/event/private-geburtstagsfeier-2/
CATEGORIES:Jazzbären - Geschlossene Gesellschaft
END:VEVENT
BEGIN:VEVENT
DTSTART;TZID=Europe/Berlin:20251025T190000
DTEND;TZID=Europe/Berlin:20251025T213000
DTSTAMP:20260423T124051
CREATED:20250426T163158Z
LAST-MODIFIED:20251006T140435Z
UID:5066-1761418800-1761427800@www.jazzbaeren.de
SUMMARY:Amra Mothes Jazz Quartett
DESCRIPTION:Die Jazzfreunde Offheim laden wieder ein zu einem Jazzkonzert am Samstag\, den 25. 10. 2025 ab 19h in ihr Stammlokal „Zur Turnhalle Offheim“. Zu Gast ist dieses Mal das „Amra Mothes Jazz Quartett“\, das den Jazzfreunden Jazzstandards aus dem „American Songbook“ darbieten wird. Das Quartett besteht vier hochkarätigen Musikerinnen und Musikern\, die die bisherige Ausrichtung der Jazzfreunde Offheim auf den „Traditional Jazz“ mal durch moderneren Jazz ergänzen wollen. \nDie Sängerin der Gruppe ist Amra Mothes\, die sich stilistisch hauptsächlich in den Bereichen Swing\, Soul und Funk bewegt. Amra beeindruckt besonders durch ihre Freude am Improvisieren und dem Einsetzen ihrer Stimme als Instrument. Mit ihrer Stimme und ihrer aufregend wechselnden Garderobe fasziniert sie sie ihr Publikum und macht somit jeden Auftritt zu einem Erlebnis. \nAm Piano ist das Quartett vertreten durch die Ukrainerin Natalya Karmazin\, die sowohl klassisches als auch Jazzklavier an Musikhochschulen in Lemberg\, Frankfurt und Leipzig studierte. Mit Natalya am Piano legt das Quartett die harmonische Grundlage und ergänzt darüber hinaus durch ihre Improvisationen reizvoll die jeweiligen Songs. Gleich zweimal gewann Natalya das renommierte Arbeitsstipendium der Stadt Frankfurt und tritt nun in vielen Jazzkonzerten vor ausgewähltem Publikum auf. \nAm Kontrabass wird das Quartett vertreten durch Don Hein\, einem aus Sibirien stammenden Musiker. Don Hein begann seine musikalische Laufbahn mit dem Akkordeon\, einem Klarinettenstudium und danach als Hauptinstrument dem Bass. Heute ist er in vielen Stilrichtungen zuhause\, von Jazz\, Latin und Klezmer über Gospel und Gypsy bis hin zu Pop. Neben Theater- und Studioarbeit war er auch im Stagemanagement tätig und arbeitete dabei mit vielen internationalen Größen zusammen. \nErgänzt wird das Quartett schließlich durch den bekannten Jazzer Matthias Seuffert an der Klarinette und am Saxophon. Matthias erhielt eine klassische Ausbildung am Klavier und an der Klarinette. Als Jugendlicher entdeckte er den Jazz und Reimer von Essen von der Barrelhouse Jazzband war sein Mentor. Matthias spielte bisher in unzähligen Bandbesetzungen mit vielen namhaften Jazzmusikern zusammen. Ein Blick in Wikipedia gibt eine detaillierte Aufzählung seiner sehr engagierten Jazztätigkeiten. \nDer Eintritt zu diesem Konzert ist wie immer frei\, es wird jedoch um eine Spende für die Musiker gebeten. Für das Konzert ist auch eine Reservierung notwendig unter 06431/54227. Alle Jazzfreunde sind herzlich eingeladen. \n  \n 
URL:https://www.jazzbaeren.de/event/mme-brell-die-filous/
LOCATION:Gaststätte „Zur Turnhalle Offheim“\, Backhausstr. 9\, Offheim
CATEGORIES:JazzfreundeOffheim - Event
END:VEVENT
BEGIN:VEVENT
DTSTART;TZID=Europe/Berlin:20251019T170000
DTEND;TZID=Europe/Berlin:20251019T181500
DTSTAMP:20260423T124051
CREATED:20241016T163934Z
LAST-MODIFIED:20250930T132336Z
UID:4743-1760893200-1760897700@www.jazzbaeren.de
SUMMARY:Jazzkonzert Berger Kirche
DESCRIPTION:
URL:https://www.jazzbaeren.de/event/jazzkonzert-berger-kirche/
LOCATION:65611 Brechen\, Berger Kirche
CATEGORIES:Jazzbären - Öffentliche Veranstaltung
END:VEVENT
BEGIN:VEVENT
DTSTART;TZID=Europe/Berlin:20251018T153000
DTEND;TZID=Europe/Berlin:20251018T173000
DTSTAMP:20260423T124051
CREATED:20250901T101923Z
LAST-MODIFIED:20250912T104047Z
UID:5624-1760801400-1760808600@www.jazzbaeren.de
SUMMARY:Oktoberfest im Alloheim Elz
DESCRIPTION:
URL:https://www.jazzbaeren.de/event/oktoberfest-im-alloheim-elz/
LOCATION:65604 Alloheim Elz\, Schulstraße 20
CATEGORIES:Jazzbären - Öffentliche Veranstaltung
END:VEVENT
BEGIN:VEVENT
DTSTART;TZID=Europe/Berlin:20251004T190000
DTEND;TZID=Europe/Berlin:20251004T213000
DTSTAMP:20260423T124051
CREATED:20250426T162659Z
LAST-MODIFIED:20250903T093624Z
UID:5063-1759604400-1759613400@www.jazzbaeren.de
SUMMARY:Jazzbones
DESCRIPTION:
URL:https://www.jazzbaeren.de/event/jazzbones-3/
LOCATION:Gaststätte „Zur Turnhalle Offheim“\, Backhausstr. 9\, Offheim
CATEGORIES:JazzfreundeOffheim - Event
END:VEVENT
BEGIN:VEVENT
DTSTART;TZID=Europe/Berlin:20250927T183000
DTEND;TZID=Europe/Berlin:20250927T193000
DTSTAMP:20260423T124051
CREATED:20250417T065826Z
LAST-MODIFIED:20250901T100948Z
UID:5042-1758997800-1759001400@www.jazzbaeren.de
SUMMARY:Jazzmesse in Elz
DESCRIPTION:
URL:https://www.jazzbaeren.de/event/jazzmesse-in-elz-3/
LOCATION:65604 Elz\, Pfarrkirche
CATEGORIES:Jazzbären - Öffentliche Veranstaltung
END:VEVENT
BEGIN:VEVENT
DTSTART;TZID=Europe/Berlin:20250817T170000
DTEND;TZID=Europe/Berlin:20250817T200000
DTSTAMP:20260423T124051
CREATED:20250430T082006Z
LAST-MODIFIED:20250806T162249Z
UID:5089-1755450000-1755460800@www.jazzbaeren.de
SUMMARY:Kirmesserenade mit "Viertel vor Jazz"
DESCRIPTION:
URL:https://www.jazzbaeren.de/event/kirmesserenade-mit-viertel-vor-jazz/
LOCATION:65555 Offheim\, Backhausstraße 9\, Vor der Turnhalle\, Backhausstraße 9\, Offheim\, 65555
CATEGORIES:JazzfreundeOffheim - Event
END:VEVENT
BEGIN:VEVENT
DTSTART;TZID=Europe/Berlin:20250803T130000
DTEND;TZID=Europe/Berlin:20250803T160000
DTSTAMP:20260423T124051
CREATED:20250414T165910Z
LAST-MODIFIED:20250722T073537Z
UID:5016-1754226000-1754236800@www.jazzbaeren.de
SUMMARY:Germania Weinfest in den Elzer Anlagen
DESCRIPTION:
URL:https://www.jazzbaeren.de/event/germania-weinfest-in-den-elzer-anlagen/
CATEGORIES:Jazzbären - Öffentliche Veranstaltung
END:VEVENT
BEGIN:VEVENT
DTSTART;TZID=Europe/Berlin:20250802T170000
DTEND;TZID=Europe/Berlin:20250802T170000
DTSTAMP:20260423T124051
CREATED:20241016T164205Z
LAST-MODIFIED:20250414T170837Z
UID:4746-1754154000-1754154000@www.jazzbaeren.de
SUMMARY:Privater Geburtstag P. van H.
DESCRIPTION:
URL:https://www.jazzbaeren.de/event/geburtstag-peter-van-huellen-laggenbeck/
LOCATION:49479 Laggenbeck
CATEGORIES:Jazzbären - Geschlossene Gesellschaft
END:VEVENT
BEGIN:VEVENT
DTSTART;TZID=Europe/Berlin:20250720T110000
DTEND;TZID=Europe/Berlin:20250720T110000
DTSTAMP:20260423T124051
CREATED:20250414T165016Z
LAST-MODIFIED:20250414T165641Z
UID:5011-1753009200-1753009200@www.jazzbaeren.de
SUMMARY:Jazzfrühschoppen im Biergarten "Zur Turnhalle Limburg"
DESCRIPTION:
URL:https://www.jazzbaeren.de/event/jazzfruehschoppen-im-biergarten-zur-turnhalle-limburg/
LOCATION:65549 Limburg\, Ste.-Foy-Str. 16\, Biergarten „Zur Turnhalle LImburg“
CATEGORIES:Jazzbären - Öffentliche Veranstaltung
ORGANIZER;CN="Gastst%C3%A4tte 'Zur Turnhalle Limburg'":MAILTO:zurturnhallelimburg@gmail.com
END:VEVENT
BEGIN:VEVENT
DTSTART;TZID=Europe/Berlin:20250719T180000
DTEND;TZID=Europe/Berlin:20250719T190000
DTSTAMP:20260423T124051
CREATED:20250102T122250Z
LAST-MODIFIED:20250521T124313Z
UID:4837-1752948000-1752951600@www.jazzbaeren.de
SUMMARY:Jazz Gottesdienst in Weyer
DESCRIPTION:
URL:https://www.jazzbaeren.de/event/jazz-gottesdienst/
LOCATION:65606 Weyer (Villmar) Ev. Kirche
CATEGORIES:Jazzbären - Öffentliche Veranstaltung
END:VEVENT
BEGIN:VEVENT
DTSTART;TZID=Europe/Berlin:20250629T110000
DTEND;TZID=Europe/Berlin:20250629T160000
DTSTAMP:20260423T124051
CREATED:20241030T182439Z
LAST-MODIFIED:20250522T115624Z
UID:4760-1751194800-1751212800@www.jazzbaeren.de
SUMMARY:Jazzfest der Jazzbären
DESCRIPTION:mit „www.enhaufeleit.de \n+ www.jazzbaeren.de \n+ befreundete Musiker
URL:https://www.jazzbaeren.de/event/jazzfest-der-jazzbaeren/
LOCATION:65555 Limburg-Offheim\, Dietkircher Str. 6
CATEGORIES:Jazzbären - Öffentliche Veranstaltung
END:VEVENT
BEGIN:VEVENT
DTSTART;TZID=Europe/Berlin:20250628T180000
DTEND;TZID=Europe/Berlin:20250628T190000
DTSTAMP:20260423T124051
CREATED:20241030T184625Z
LAST-MODIFIED:20250522T121510Z
UID:4780-1751133600-1751137200@www.jazzbaeren.de
SUMMARY:Jazz-Gottesdienst in Heringen
DESCRIPTION:
URL:https://www.jazzbaeren.de/event/jazz-gottesdienst-in-heringen/
LOCATION:65597 Heringen\, Ev. Kirche
CATEGORIES:Jazzbären - Öffentliche Veranstaltung
END:VEVENT
BEGIN:VEVENT
DTSTART;TZID=Europe/Berlin:20250516T080000
DTEND;TZID=Europe/Berlin:20250518T170000
DTSTAMP:20260423T124051
CREATED:20250104T133439Z
LAST-MODIFIED:20250120T094611Z
UID:4854-1747382400-1747587600@www.jazzbaeren.de
SUMMARY:Nachrichtlich: Deutsches Dixielandfestival Dresden
DESCRIPTION:Üblicherweise fahren wir jedes Jahr – je nachdem wer kann und Zeit hat – nach Dresden zum Deutschen Dixieland Festival. Die Entscheidung wird meistens kurzfristig getroffen. Wir fahren mit Privat PKW’s Freitags los und Sonntags zurück. Übernachtungen haben wir vorgenommen entweder im IBIS oder im  Pullmann. Einzelheiten sind zu ersehen unter www.dixielandfestival-dresden.com
URL:https://www.jazzbaeren.de/event/nachrichtlich-deutsches-dixielandfestival-dresden/
LOCATION:Dresden
CATEGORIES:Jazzbären - Öffentliche Veranstaltung
END:VEVENT
BEGIN:VEVENT
DTSTART;TZID=Europe/Berlin:20250430T190000
DTEND;TZID=Europe/Berlin:20250430T213000
DTSTAMP:20260423T124051
CREATED:20250201T153319Z
LAST-MODIFIED:20250213T132516Z
UID:4914-1746039600-1746048600@www.jazzbaeren.de
SUMMARY:Peter Glessing Swingtet
DESCRIPTION:Peter Glessing: Tenorsaxophon\, Klarinette – Nikita Bratus: Piano – Götz Ommert: Kontrabass – Peter Fahrenholz: Schlagzeug
URL:https://www.jazzbaeren.de/event/peter-glessing-swingtet/
LOCATION:Gaststätte „Zur Turnhalle Offheim“\, Backhausstraße 9\, Offheim\, 65555
CATEGORIES:JazzfreundeOffheim - Event
END:VEVENT
BEGIN:VEVENT
DTSTART;TZID=Europe/Berlin:20250405T190000
DTEND;TZID=Europe/Berlin:20250405T213000
DTSTAMP:20260423T124051
CREATED:20250201T152937Z
LAST-MODIFIED:20250329T071815Z
UID:4911-1743879600-1743888600@www.jazzbaeren.de
SUMMARY:Brassette
DESCRIPTION:Die Musiker der „Brassette“ widmen sich schon viele Jahre ihrer Leidenschaft\, der des gemeinsamen Musizierens. Nicole Becker kommt aus einer musikalischen Familie und spielte zunächst mit ihrer Zwillingsschwester als Kind in einem ev. Posaunenchor. Es folgten Auftritte in der Kirchenmusik\, im Blasorchester\, in einer Bigband\, in Jazz- und Soulbands und nun legt sie ihren Focus auf melodiösen Jazz\, Swing und Evergreens. Sie setzt auch gerne das Pfeifen a´ la Ilse Werner ein\, dass ihr als Talent in die Wiege gelegt wurde. Mit Werner\, einem ehemaligen Tanzmusiker mit Gitarre\, Banjo und nun Trompete\, traf Nicole auf einen ebenso begeisterten Jazzer. Ergänzt werden Nicole und Werner durch Ernst Seitz (Piano)\, Paul Schmandt (Kontrabass) und Hans Peter Bartsch (Schlagzeug). \nIhre Songs beinhalten flotten Swing über feschen Dixie bis hin zu herzerwärmende Rhythmen des Bossa Nova & Latin. Zwischendurch darf auch gerne mal ein erfrischend dargebrachter Ohrwurm im Repertoire sein:- die guten alten Evergreens. Ein Faible an die Teenagerzeit einiger Bandmitglieder besteht auch für den Pop der 80-er Jahre. \nSo schafft es die Band\, mit ungebremster Spielfreude musikalisch hochwertig zu agieren\, locker und leicht eine klasse Melodie an die nächste zu reihen\, mit großem Engagement Texte vorzutragen und dabei noch interaktiv zu sein.  Da das alles sowohl mit viel Eleganz aber auch mit viel Herzblut und Spontanität vonstattengeht\, lässt dies den Funken schon nach wenigen Takten auf die Gäste überspringen. Man merkt\, dass die Musiker sich von Beginn an so richtig ins Zeug legen und die eigene Begeisterung und ihr Spaß wirkt ansteckend und entfacht somit konsequenterweise eine hervorragende Stimmung beim Publikum. Die Musiker kommen aus Aschaffenburg und Umgebung und spielen seit vielen Jahren im Rhein-Main-Gebiet. Dort sind sie vertreten auf Open Airs\, auf Stadtfesten\, bei Früh- und Spätschoppen\, bei Empfängen und Vielem mehr. Auch für uns haben sie ein schönes\, abwechslungsreiches Programm zusammengestellt und wollen eine entspannte\, fröhliche Stimmung und ein unvergessliches Erlebnis hinterlassen. \nwww.brassette.de
URL:https://www.jazzbaeren.de/event/brassette/
LOCATION:Gaststätte „Zur Turnhalle Offheim“\, Backhausstraße 9\, Offheim\, 65555
CATEGORIES:JazzfreundeOffheim - Event
END:VEVENT
BEGIN:VEVENT
DTSTART;TZID=Europe/Berlin:20250322T190000
DTEND;TZID=Europe/Berlin:20250322T213000
DTSTAMP:20260423T124051
CREATED:20250201T152733Z
LAST-MODIFIED:20250212T141127Z
UID:4907-1742670000-1742679000@www.jazzbaeren.de
SUMMARY:Doktor Jazz Ambulanz
DESCRIPTION:www.doktorjazzambulanz.de – mit Franz-Josef Lübken (p\, arr.)\, Marc Bothe (tp\, voc)\, Wolfgang Gundlach (cl. sax.) Uwe Schollmeyer (tb)\, Klaus-Maria Gronemeyer (b\, tuba)\,  Johannes Zink (bjo\, g) Peter Hermann (dr)
URL:https://www.jazzbaeren.de/event/4907/
LOCATION:Gaststätte „Zur Turnhalle Offheim“\, Backhausstraße 9\, Offheim\, 65555
CATEGORIES:JazzfreundeOffheim - Event
END:VEVENT
BEGIN:VEVENT
DTSTART;TZID=Europe/Berlin:20250316T110000
DTEND;TZID=Europe/Berlin:20250316T120000
DTSTAMP:20260423T124051
CREATED:20240428T182937Z
LAST-MODIFIED:20250302T154030Z
UID:4466-1742122800-1742126400@www.jazzbaeren.de
SUMMARY:Jazzmesse in Offheim
DESCRIPTION:
URL:https://www.jazzbaeren.de/event/jazzmesse-in-offheim-2/
LOCATION:65555 Limburg-Offheim\, Kirche
CATEGORIES:Jazzbären - Öffentliche Veranstaltung
ATTACH;FMTTYPE=image/png:https://www.jazzbaeren.de/wp-content/uploads/2024/11/Jazzbaeren-Logo2025.png
END:VEVENT
BEGIN:VEVENT
DTSTART;TZID=Europe/Berlin:20250222T190000
DTEND;TZID=Europe/Berlin:20250222T213000
DTSTAMP:20260423T124051
CREATED:20250201T152252Z
LAST-MODIFIED:20250213T130401Z
UID:4901-1740250800-1740259800@www.jazzbaeren.de
SUMMARY:Hot Dixie Four
DESCRIPTION:  \n \nOliver Zimmer: Trompete\, Gesang\, Moderation – Peter Glessing: Klarinette – Kristian Zeyer: Banjo – Rudi Bläsing: Kontrabass
URL:https://www.jazzbaeren.de/event/hot-dixie-four/
LOCATION:Gaststätte „Zur Turnhalle Offheim“\, Backhausstraße 9\, Offheim\, 65555
CATEGORIES:JazzfreundeOffheim - Event
END:VEVENT
BEGIN:VEVENT
DTSTART;TZID=Europe/Berlin:20250125T190000
DTEND;TZID=Europe/Berlin:20250125T213000
DTSTAMP:20260423T124051
CREATED:20250102T122817Z
LAST-MODIFIED:20250120T091851Z
UID:4846-1737831600-1737840600@www.jazzbaeren.de
SUMMARY:Stan Glogow's Dixie Dogs
DESCRIPTION:
URL:https://www.jazzbaeren.de/event/stan-glogows-dixie-dogs-2/
LOCATION:Zur Turnhalle Offheim\, Backhausstr. 9\, Limburg-Offheim\, 65555
CATEGORIES:JazzfreundeOffheim - Event
END:VEVENT
BEGIN:VEVENT
DTSTART;TZID=Europe/Berlin:20241221T190000
DTEND;TZID=Europe/Berlin:20241221T220000
DTSTAMP:20260423T124051
CREATED:20240401T143602Z
LAST-MODIFIED:20241016T165448Z
UID:4258-1734807600-1734818400@www.jazzbaeren.de
SUMMARY:Xmas Jazz mit "En Haufe Leit"
DESCRIPTION:
URL:https://www.jazzbaeren.de/event/xmas-jazz/
LOCATION:Zur Turnhalle Offheim\, Backhausstr. 9\, Limburg-Offheim\, 65555
CATEGORIES:JazzfreundeOffheim - Event
END:VEVENT
BEGIN:VEVENT
DTSTART;TZID=Europe/Berlin:20241214T190000
DTEND;TZID=Europe/Berlin:20241214T220000
DTSTAMP:20260423T124051
CREATED:20240428T183041Z
LAST-MODIFIED:20241016T162504Z
UID:4469-1734202800-1734213600@www.jazzbaeren.de
SUMMARY:Elzer Stubbemusik
DESCRIPTION:
URL:https://www.jazzbaeren.de/event/elzer-stubbemusik/
LOCATION:Zur Turnhalle Offheim\, Backhausstr. 9\, Limburg-Offheim\, 65555
CATEGORIES:JazzfreundeOffheim - Event
END:VEVENT
BEGIN:VEVENT
DTSTART;TZID=Europe/Berlin:20241123T190000
DTEND;TZID=Europe/Berlin:20241123T220000
DTSTAMP:20260423T124051
CREATED:20240401T143255Z
LAST-MODIFIED:20241030T153550Z
UID:4252-1732388400-1732399200@www.jazzbaeren.de
SUMMARY:Little Wosnitza's Jazz Orchestra
DESCRIPTION:Little Wosnitza’s Jazz Orchestra
URL:https://www.jazzbaeren.de/event/little-wosnitzas-jazz-orchester/
LOCATION:Zur Turnhalle Offheim\, Backhausstr. 9\, Limburg-Offheim\, 65555
CATEGORIES:JazzfreundeOffheim - Event
END:VEVENT
END:VCALENDAR